BEGIN:VCALENDAR
VERSION:2.0
PRODID:-//ChamberMaster//Event Calendar 2.0//EN
METHOD:PUBLISH
X-PUBLISHED-TTL:P3D
REFRESH-INTERVAL:P3D
CALSCALE:GREGORIAN
BEGIN:VEVENT
DTSTART:20140624T223000Z
DTEND:20140624T223000Z
X-MICROSOFT-CDO-ALLDAYEVENT:FALSE
SUMMARY:Ribbon Cuttings & Grand Re-Opening for Stoneybrook Memory Care
DESCRIPTION:
X-ALT-DESC;FMTTYPE=text/html:
LOCATION:2501 Heritage Ave. Grapevine\, TX 76051
UID:e.770.167852
SEQUENCE:3
DTSTAMP:20260422T121746Z
URL:https://business.grapevinechamber.org/events/details/ribbon-cuttings-grand-re-opening-for-stoneybrook-memory-care-06-24-2014-167852
END:VEVENT

END:VCALENDAR
