BEGIN:VCALENDAR
VERSION:2.0
PRODID:-//ChamberMaster//Event Calendar 2.0//EN
METHOD:PUBLISH
X-PUBLISHED-TTL:P3D
REFRESH-INTERVAL:P3D
CALSCALE:GREGORIAN
BEGIN:VEVENT
DTSTART:20250415T213000Z
DTEND:20250415T220000Z
X-MICROSOFT-CDO-ALLDAYEVENT:FALSE
SUMMARY:Ribbon Cutting- Texas General Store
DESCRIPTION:
X-ALT-DESC;FMTTYPE=text/html:
LOCATION:Texas General Store 3000 Grapevine Mills Parkway\, Suite 400 Grapevine\, TX
UID:e.770.201005
SEQUENCE:3
DTSTAMP:20260426T000001Z
URL:https://business.grapevinechamber.org/events/details/ribbon-cutting-texas-general-store-201005
END:VEVENT

END:VCALENDAR
