BEGIN:VCALENDAR
VERSION:2.0
PRODID:-//ChamberMaster//Event Calendar 2.0//EN
METHOD:PUBLISH
X-PUBLISHED-TTL:P3D
REFRESH-INTERVAL:P3D
CALSCALE:GREGORIAN
BEGIN:VEVENT
DTSTART:20230228T233000Z
DTEND:20230301T000000Z
X-MICROSOFT-CDO-ALLDAYEVENT:FALSE
SUMMARY:Ribbon Cutting- Talking Animals Books
DESCRIPTION:Help us cut the ribbon at Talking Animals Books. This woman-owned Independent bookstore and arts venue at 103 West Worth St in Grapevine\, Texas\, is focused on staff-curated new and used book selections\, gifts and events\, and family programming led by Founder Katy Lemieux and co-owner Valerie Walizadeh. All members welcome!
X-ALT-DESC;FMTTYPE=text/html:Help us cut the ribbon at Talking Animals Books. This woman-owned Independent bookstore and arts venue at 103 West Worth St in Grapevine\, Texas\, is focused on staff-curated new and used book selections\, gifts and events\, and family programming led by Founder Katy Lemieux and co-owner Valerie Walizadeh. All members welcome!
LOCATION:103 W Worth St. Grapevine\, TX 76051
UID:e.770.196644
SEQUENCE:3
DTSTAMP:20260423T212931Z
URL:https://business.grapevinechamber.org/events/details/ribbon-cutting-talking-animals-books-196644
END:VEVENT

END:VCALENDAR
