BEGIN:VCALENDAR
VERSION:2.0
PRODID:-//ChamberMaster//Event Calendar 2.0//EN
METHOD:PUBLISH
X-PUBLISHED-TTL:P3D
REFRESH-INTERVAL:P3D
CALSCALE:GREGORIAN
BEGIN:VEVENT
DTSTART:20230321T163000Z
DTEND:20230321T170000Z
X-MICROSOFT-CDO-ALLDAYEVENT:FALSE
SUMMARY:Ribbon Cutting- Summer Vine
DESCRIPTION:
X-ALT-DESC;FMTTYPE=text/html:
LOCATION:Summer Vine 204 N. Dooley St.\, #100 Grapevine\, TX 76051
UID:e.770.196900
SEQUENCE:3
DTSTAMP:20260423T230216Z
URL:https://business.grapevinechamber.org/events/details/ribbon-cutting-summer-vine-196900
END:VEVENT

END:VCALENDAR
