BEGIN:VCALENDAR
VERSION:2.0
PRODID:-//ChamberMaster//Event Calendar 2.0//EN
METHOD:PUBLISH
X-PUBLISHED-TTL:P3D
REFRESH-INTERVAL:P3D
CALSCALE:GREGORIAN
BEGIN:VEVENT
DTSTART:20250227T223000Z
DTEND:20250227T230000Z
X-MICROSOFT-CDO-ALLDAYEVENT:FALSE
SUMMARY:Ribbon Cutting- Sign of the Dove Healthcare Career Training
DESCRIPTION:
X-ALT-DESC;FMTTYPE=text/html:
LOCATION:Blankenship Business Center 200 Vine St. E Grapevine\, TX 76051
UID:e.770.200483
SEQUENCE:3
DTSTAMP:20260425T152159Z
URL:https://business.grapevinechamber.org/events/details/ribbon-cutting-sign-of-the-dove-healthcare-career-training-200483
END:VEVENT

END:VCALENDAR
