BEGIN:VCALENDAR
VERSION:2.0
PRODID:-//ChamberMaster//Event Calendar 2.0//EN
METHOD:PUBLISH
X-PUBLISHED-TTL:P3D
REFRESH-INTERVAL:P3D
CALSCALE:GREGORIAN
BEGIN:VEVENT
DTSTART:20230822T190000Z
DTEND:20230822T193000Z
X-MICROSOFT-CDO-ALLDAYEVENT:FALSE
SUMMARY:Ribbon Cutting- Senator Tan Parker
DESCRIPTION:All members are welcome to attend the Ribbon Cutting and Open House for Texas State Senator Tan Parker.\n\n\n\nEntrance to the office is located at the back of building 600.  Head upstairs and to the left.  Office is on the right side of the hallway at the double doors.
X-ALT-DESC;FMTTYPE=text/html:<br />\nAll members are welcome to attend the Ribbon Cutting and Open House for Texas State Senator Tan Parker.<br />\n<br />\nEntrance to the office is located at the back of building 600.&nbsp\; Head upstairs and to the left.&nbsp\; Office is on the right side of the hallway at the double doors.
LOCATION:Senator Tan Parker 600 Parker Square\, Suite 250 Flower Mound\, TX 75028
UID:e.770.197503
SEQUENCE:3
DTSTAMP:20260424T073103Z
URL:https://business.grapevinechamber.org/events/details/ribbon-cutting-senator-tan-parker-197503
END:VEVENT

END:VCALENDAR
