BEGIN:VCALENDAR
VERSION:2.0
PRODID:-//ChamberMaster//Event Calendar 2.0//EN
METHOD:PUBLISH
X-PUBLISHED-TTL:P3D
REFRESH-INTERVAL:P3D
CALSCALE:GREGORIAN
BEGIN:VEVENT
DTSTART:20160802T223000Z
DTEND:20160802T223000Z
X-MICROSOFT-CDO-ALLDAYEVENT:FALSE
SUMMARY:Ribbon Cutting & Open House for The Lodge at Bear Creek Skilled Nursing & Rehab
DESCRIPTION:
X-ALT-DESC;FMTTYPE=text/html:
LOCATION:3729 Ira E. Woods Ave. Grapevine\, TX 76051
UID:e.770.174960
SEQUENCE:3
DTSTAMP:20260420T083243Z
URL:https://business.grapevinechamber.org/events/details/ribbon-cutting-open-house-for-the-lodge-at-bear-creek-skilled-nursing-rehab-08-02-2016-174960
END:VEVENT

END:VCALENDAR
