BEGIN:VCALENDAR
VERSION:2.0
PRODID:-//ChamberMaster//Event Calendar 2.0//EN
METHOD:PUBLISH
X-PUBLISHED-TTL:P3D
REFRESH-INTERVAL:P3D
CALSCALE:GREGORIAN
BEGIN:VEVENT
DTSTART:20140320T223000Z
DTEND:20140320T223000Z
X-MICROSOFT-CDO-ALLDAYEVENT:FALSE
SUMMARY:Ribbon Cutting & Open House for Meadowood Assisted Living & Memory Care
DESCRIPTION:
X-ALT-DESC;FMTTYPE=text/html:
LOCATION:Meadowood Assisted Living & Memory Care at the Vineyard 4545 Merlot Ave. Grapevine\, TX 76051
UID:e.770.166456
SEQUENCE:3
DTSTAMP:20260420T182415Z
URL:https://business.grapevinechamber.org/events/details/ribbon-cutting-open-house-for-meadowood-assisted-living-memory-care-03-20-2014-166456
END:VEVENT

END:VCALENDAR
