BEGIN:VCALENDAR
VERSION:2.0
PRODID:-//ChamberMaster//Event Calendar 2.0//EN
METHOD:PUBLISH
X-PUBLISHED-TTL:P3D
REFRESH-INTERVAL:P3D
CALSCALE:GREGORIAN
BEGIN:VEVENT
DTSTART:20250128T173000Z
DTEND:20250128T180000Z
X-MICROSOFT-CDO-ALLDAYEVENT:FALSE
SUMMARY:Ribbon Cutting- Miller Storm Roofing & Reconstruction
DESCRIPTION:
X-ALT-DESC;FMTTYPE=text/html:
LOCATION:Clieu Coffee 106 E Texas St. Grapevine\, TX 76051
UID:e.770.200486
SEQUENCE:3
DTSTAMP:20260425T152127Z
URL:https://business.grapevinechamber.org/events/details/ribbon-cutting-miller-storm-roofing-reconstruction-200486
END:VEVENT

END:VCALENDAR
