BEGIN:VCALENDAR
VERSION:2.0
PRODID:-//ChamberMaster//Event Calendar 2.0//EN
METHOD:PUBLISH
X-PUBLISHED-TTL:P3D
REFRESH-INTERVAL:P3D
CALSCALE:GREGORIAN
BEGIN:VEVENT
DTSTART:20230817T223000Z
DTEND:20230817T230000Z
X-MICROSOFT-CDO-ALLDAYEVENT:FALSE
SUMMARY:Ribbon Cutting- Grapevine Food Tour
DESCRIPTION:All members are encouraged to attend the Ribbon Cutting to welcome Grapevine Food Tour.
X-ALT-DESC;FMTTYPE=text/html:All members are encouraged to attend the Ribbon Cutting to welcome Grapevine Food Tour.
LOCATION:Boss Office + Coworking 129 S. Main St.\, #260 Grapevine\, TX 76051
UID:e.770.197306
SEQUENCE:3
DTSTAMP:20260424T073211Z
URL:https://business.grapevinechamber.org/events/details/ribbon-cutting-grapevine-food-tour-197306
END:VEVENT

END:VCALENDAR
