BEGIN:VCALENDAR
VERSION:2.0
PRODID:-//ChamberMaster//Event Calendar 2.0//EN
METHOD:PUBLISH
X-PUBLISHED-TTL:P3D
REFRESH-INTERVAL:P3D
CALSCALE:GREGORIAN
BEGIN:VEVENT
DTSTART:20130620T223000Z
DTEND:20130620T223000Z
X-MICROSOFT-CDO-ALLDAYEVENT:FALSE
SUMMARY:Ribbon Cutting & Grand Opening for Tribeca America Bistro & Lounge
DESCRIPTION:This event is combined with the Colleyville Chamber of Commerce.
X-ALT-DESC;FMTTYPE=text/html:This event is combined with the Colleyville Chamber of Commerce.
LOCATION:62 Main St.\, #200 Colleyville\, TX 76034
UID:e.770.163519
SEQUENCE:3
DTSTAMP:20260420T095722Z
URL:https://business.grapevinechamber.org/events/details/ribbon-cutting-grand-opening-for-tribeca-america-bistro-lounge-06-20-2013-163519
END:VEVENT

END:VCALENDAR
