BEGIN:VCALENDAR
VERSION:2.0
PRODID:-//ChamberMaster//Event Calendar 2.0//EN
METHOD:PUBLISH
X-PUBLISHED-TTL:P3D
REFRESH-INTERVAL:P3D
CALSCALE:GREGORIAN
BEGIN:VEVENT
DTSTART:20120920T223000Z
DTEND:20120920T223000Z
X-MICROSOFT-CDO-ALLDAYEVENT:FALSE
SUMMARY:Ribbon Cutting & Grand Opening for The Designer's Rack
DESCRIPTION:
X-ALT-DESC;FMTTYPE=text/html:
LOCATION:405 S. Main St. Grapevine\, TX 76051
UID:e.770.162965
SEQUENCE:3
DTSTAMP:20260422T094332Z
URL:https://business.grapevinechamber.org/events/details/ribbon-cutting-grand-opening-for-the-designer-s-rack-09-20-2012-162965
END:VEVENT

END:VCALENDAR
