BEGIN:VCALENDAR
VERSION:2.0
PRODID:-//ChamberMaster//Event Calendar 2.0//EN
METHOD:PUBLISH
X-PUBLISHED-TTL:P3D
REFRESH-INTERVAL:P3D
CALSCALE:GREGORIAN
BEGIN:VEVENT
DTSTART:20130108T233000Z
DTEND:20130108T233000Z
X-MICROSOFT-CDO-ALLDAYEVENT:FALSE
SUMMARY:Ribbon Cutting for Wellness First Chiropractic & Family Wellness
DESCRIPTION:
X-ALT-DESC;FMTTYPE=text/html:
LOCATION:1202 S. White Chapel Blvd.\, #200 Southlake\, TX 76092
UID:e.770.163146
SEQUENCE:3
DTSTAMP:20260421T212855Z
URL:https://business.grapevinechamber.org/events/details/ribbon-cutting-for-wellness-first-chiropractic-family-wellness-01-08-2013-163146
END:VEVENT

END:VCALENDAR
