BEGIN:VCALENDAR
VERSION:2.0
PRODID:-//ChamberMaster//Event Calendar 2.0//EN
METHOD:PUBLISH
X-PUBLISHED-TTL:P3D
REFRESH-INTERVAL:P3D
CALSCALE:GREGORIAN
BEGIN:VEVENT
DTSTART:20160804T223000Z
DTEND:20160804T230000Z
X-MICROSOFT-CDO-ALLDAYEVENT:FALSE
SUMMARY:Ribbon Cutting for US Health Advisors/Jarrod Halbert
DESCRIPTION:Ribbon Cutting will be held at the Grapevine Chamber's Board Room.
X-ALT-DESC;FMTTYPE=text/html:Ribbon Cutting will be held at the Grapevine Chamber&#39\;s Board Room.
LOCATION:Ribbon Cutting @ Grapevine Chamber Office 200 Vine St. Grapevine\, TX 76051
UID:e.770.174984
SEQUENCE:3
DTSTAMP:20260420T083134Z
URL:https://business.grapevinechamber.org/events/details/ribbon-cutting-for-us-health-advisors-jarrod-halbert-08-04-2016-174984
END:VEVENT

END:VCALENDAR
