BEGIN:VCALENDAR
VERSION:2.0
PRODID:-//ChamberMaster//Event Calendar 2.0//EN
METHOD:PUBLISH
X-PUBLISHED-TTL:P3D
REFRESH-INTERVAL:P3D
CALSCALE:GREGORIAN
BEGIN:VEVENT
DTSTART:20130509T223000Z
DTEND:20130509T223000Z
X-MICROSOFT-CDO-ALLDAYEVENT:FALSE
SUMMARY:Ribbon Cutting for The Walton Stout Band & Emco Inc.
DESCRIPTION:Click here to edit...
X-ALT-DESC;FMTTYPE=text/html:<div style="color: gray\;">Click here to edit...</div>
LOCATION:607 West Dallas Rd.\, #400 Grapevine\, TX 76051
UID:e.770.163442
SEQUENCE:3
DTSTAMP:20260421T130136Z
URL:https://business.grapevinechamber.org/events/details/ribbon-cutting-for-the-walton-stout-band-emco-inc-05-09-2013-163442
END:VEVENT

END:VCALENDAR
