BEGIN:VCALENDAR
VERSION:2.0
PRODID:-//ChamberMaster//Event Calendar 2.0//EN
METHOD:PUBLISH
X-PUBLISHED-TTL:P3D
REFRESH-INTERVAL:P3D
CALSCALE:GREGORIAN
BEGIN:VEVENT
DTSTART:20120828T223000Z
DTEND:20120828T223000Z
X-MICROSOFT-CDO-ALLDAYEVENT:FALSE
SUMMARY:Ribbon Cutting for The Grapevine Dentist
DESCRIPTION:
X-ALT-DESC;FMTTYPE=text/html:
LOCATION:1600 W. Northwest Hwy.\, #300 Grapevine\, TX 76051
UID:e.770.162907
SEQUENCE:3
DTSTAMP:20260422T080115Z
URL:https://business.grapevinechamber.org/events/details/ribbon-cutting-for-the-grapevine-dentist-08-28-2012-162907
END:VEVENT

END:VCALENDAR
