BEGIN:VCALENDAR
VERSION:2.0
PRODID:-//ChamberMaster//Event Calendar 2.0//EN
METHOD:PUBLISH
X-PUBLISHED-TTL:P3D
REFRESH-INTERVAL:P3D
CALSCALE:GREGORIAN
BEGIN:VEVENT
DTSTART:20121023T223000Z
DTEND:20121023T223000Z
X-MICROSOFT-CDO-ALLDAYEVENT:FALSE
SUMMARY:Ribbon Cutting for Posh Pedi Spa & PhoExpress
DESCRIPTION:www.poshpedispatx.com\n\n\n\nwww.phoxpresstx.com
X-ALT-DESC;FMTTYPE=text/html:<a href="http://www.poshpedispatx.com" target="_blank">www.poshpedispatx.com</a><br />\n<br />\n<a href="http://www.phoxpresstx.com" target="_blank">www.phoxpresstx.com</a>
LOCATION:2805 E. Grapevine Mills Circle\, #170 Grapevine\, TX 76051
UID:e.770.162998
SEQUENCE:3
DTSTAMP:20260422T110703Z
URL:https://business.grapevinechamber.org/events/details/ribbon-cutting-for-posh-pedi-spa-phoexpress-10-23-2012-162998
END:VEVENT

END:VCALENDAR
