BEGIN:VCALENDAR
VERSION:2.0
PRODID:-//ChamberMaster//Event Calendar 2.0//EN
METHOD:PUBLISH
X-PUBLISHED-TTL:P3D
REFRESH-INTERVAL:P3D
CALSCALE:GREGORIAN
BEGIN:VEVENT
DTSTART:20120816T223000Z
DTEND:20120816T223000Z
X-MICROSOFT-CDO-ALLDAYEVENT:FALSE
SUMMARY:Ribbon Cutting for One Posh Place
DESCRIPTION:
X-ALT-DESC;FMTTYPE=text/html:
LOCATION:317 S. Main St. Grapevine\, TX 76051
UID:e.770.162961
SEQUENCE:3
DTSTAMP:20260422T080115Z
URL:https://business.grapevinechamber.org/events/details/ribbon-cutting-for-one-posh-place-08-16-2012-162961
END:VEVENT

END:VCALENDAR
