BEGIN:VCALENDAR
VERSION:2.0
PRODID:-//ChamberMaster//Event Calendar 2.0//EN
METHOD:PUBLISH
X-PUBLISHED-TTL:P3D
REFRESH-INTERVAL:P3D
CALSCALE:GREGORIAN
BEGIN:VEVENT
DTSTART:20120906T223000Z
DTEND:20120906T223000Z
X-MICROSOFT-CDO-ALLDAYEVENT:FALSE
SUMMARY:Ribbon Cutting for KatieHairStyle
DESCRIPTION:
X-ALT-DESC;FMTTYPE=text/html:
LOCATION:2717 E. Southlake Blvd.\, #160\, Studio 11 (Inside Suite Escape Salons) Southlake\, TX 76092
UID:e.770.162989
SEQUENCE:3
DTSTAMP:20260422T094203Z
URL:https://business.grapevinechamber.org/events/details/ribbon-cutting-for-katiehairstyle-09-06-2012-162989
END:VEVENT

END:VCALENDAR
