BEGIN:VCALENDAR
VERSION:2.0
PRODID:-//ChamberMaster//Event Calendar 2.0//EN
METHOD:PUBLISH
X-PUBLISHED-TTL:P3D
REFRESH-INTERVAL:P3D
CALSCALE:GREGORIAN
BEGIN:VEVENT
DTSTART:20160602T223000Z
DTEND:20160602T230000Z
X-MICROSOFT-CDO-ALLDAYEVENT:FALSE
SUMMARY:Ribbon Cutting for Home2 Suites by Hilton
DESCRIPTION:
X-ALT-DESC;FMTTYPE=text/html:
LOCATION:4700 Plaza Drive Irving\, TX 75063
UID:e.770.174766
SEQUENCE:3
DTSTAMP:20260420T114635Z
URL:https://business.grapevinechamber.org/events/details/ribbon-cutting-for-home2-suites-by-hilton-06-02-2016-174766
END:VEVENT

END:VCALENDAR
