BEGIN:VCALENDAR
VERSION:2.0
PRODID:-//ChamberMaster//Event Calendar 2.0//EN
METHOD:PUBLISH
X-PUBLISHED-TTL:P3D
REFRESH-INTERVAL:P3D
CALSCALE:GREGORIAN
BEGIN:VEVENT
DTSTART:20130418T223000Z
DTEND:20130418T223000Z
X-MICROSOFT-CDO-ALLDAYEVENT:FALSE
SUMMARY:Ribbon Cutting for Home Care Assistance of Fort Worth
DESCRIPTION:
X-ALT-DESC;FMTTYPE=text/html:
LOCATION:5712 Colleyville Blvd.\, #120 Colleyville\, TX 76034
UID:e.770.163431
SEQUENCE:3
DTSTAMP:20260421T162016Z
URL:https://business.grapevinechamber.org/events/details/ribbon-cutting-for-home-care-assistance-of-fort-worth-04-18-2013-163431
END:VEVENT

END:VCALENDAR
