BEGIN:VCALENDAR
VERSION:2.0
PRODID:-//ChamberMaster//Event Calendar 2.0//EN
METHOD:PUBLISH
X-PUBLISHED-TTL:P3D
REFRESH-INTERVAL:P3D
CALSCALE:GREGORIAN
BEGIN:VEVENT
DTSTART:20130418T231500Z
DTEND:20130418T231500Z
X-MICROSOFT-CDO-ALLDAYEVENT:FALSE
SUMMARY:Ribbon Cutting for Grand Re-Opening of Box Insurance Agency
DESCRIPTION:
X-ALT-DESC;FMTTYPE=text/html:
LOCATION:1200 S. Main St.\, #1600 Grapevine\, TX 76051
UID:e.770.163459
SEQUENCE:3
DTSTAMP:20260421T162101Z
URL:https://business.grapevinechamber.org/events/details/ribbon-cutting-for-grand-re-opening-of-box-insurance-agency-04-18-2013-163459
END:VEVENT

END:VCALENDAR
