BEGIN:VCALENDAR
VERSION:2.0
PRODID:-//ChamberMaster//Event Calendar 2.0//EN
METHOD:PUBLISH
X-PUBLISHED-TTL:P3D
REFRESH-INTERVAL:P3D
CALSCALE:GREGORIAN
BEGIN:VEVENT
DTSTART:20130426T143000Z
DTEND:20130426T143000Z
X-MICROSOFT-CDO-ALLDAYEVENT:FALSE
SUMMARY:Ribbon Cutting for Grand Opening of Sam's Club
DESCRIPTION:
X-ALT-DESC;FMTTYPE=text/html:
LOCATION:Sam's Club 1701 W. Hwy. 114 Grapevine\, TX 76051
UID:e.770.163516
SEQUENCE:3
DTSTAMP:20260421T161959Z
URL:https://business.grapevinechamber.org/events/details/ribbon-cutting-for-grand-opening-of-sam-s-club-04-26-2013-163516
END:VEVENT

END:VCALENDAR
