BEGIN:VCALENDAR
VERSION:2.0
PRODID:-//ChamberMaster//Event Calendar 2.0//EN
METHOD:PUBLISH
X-PUBLISHED-TTL:P3D
REFRESH-INTERVAL:P3D
CALSCALE:GREGORIAN
BEGIN:VEVENT
DTSTART:20130305T233000Z
DTEND:20130305T233000Z
X-MICROSOFT-CDO-ALLDAYEVENT:FALSE
SUMMARY:Ribbon Cutting for Gingerine Thai Fresh Asian
DESCRIPTION:
X-ALT-DESC;FMTTYPE=text/html:
LOCATION:2750 E. Southlake Blvd.\, #100 Southlake\, TX 76092
UID:e.770.163364
SEQUENCE:3
DTSTAMP:20260421T175031Z
URL:https://business.grapevinechamber.org/events/details/ribbon-cutting-for-gingerine-thai-fresh-asian-03-05-2013-163364
END:VEVENT

END:VCALENDAR
