BEGIN:VCALENDAR
VERSION:2.0
PRODID:-//ChamberMaster//Event Calendar 2.0//EN
METHOD:PUBLISH
X-PUBLISHED-TTL:P3D
REFRESH-INTERVAL:P3D
CALSCALE:GREGORIAN
BEGIN:VEVENT
DTSTART:20160707T223000Z
DTEND:20160707T223000Z
X-MICROSOFT-CDO-ALLDAYEVENT:FALSE
SUMMARY:Ribbon Cutting for Gigi's Cupcakes
DESCRIPTION:
X-ALT-DESC;FMTTYPE=text/html:
LOCATION:1161 E. Southlake Blvd.\, Ste. 208 Southlake\, TX 76092
UID:e.770.175126
SEQUENCE:3
DTSTAMP:20260420T095611Z
URL:https://business.grapevinechamber.org/events/details/ribbon-cutting-for-gigi-s-cupcakes-07-07-2016-175126
END:VEVENT

END:VCALENDAR
