BEGIN:VCALENDAR
VERSION:2.0
PRODID:-//ChamberMaster//Event Calendar 2.0//EN
METHOD:PUBLISH
X-PUBLISHED-TTL:P3D
REFRESH-INTERVAL:P3D
CALSCALE:GREGORIAN
BEGIN:VEVENT
DTSTART:20130416T210000Z
DTEND:20130416T210000Z
X-MICROSOFT-CDO-ALLDAYEVENT:FALSE
SUMMARY:Ribbon Cutting for Fertility Specialists of Texas
DESCRIPTION:
X-ALT-DESC;FMTTYPE=text/html:
LOCATION:1601 Lancaster Dr. Suite 160 Grapevine\, TX 76051
UID:e.770.163448
SEQUENCE:3
DTSTAMP:20260421T162101Z
URL:https://business.grapevinechamber.org/events/details/ribbon-cutting-for-fertility-specialists-of-texas-04-16-2013-163448
END:VEVENT

END:VCALENDAR
