BEGIN:VCALENDAR
VERSION:2.0
PRODID:-//ChamberMaster//Event Calendar 2.0//EN
METHOD:PUBLISH
X-PUBLISHED-TTL:P3D
REFRESH-INTERVAL:P3D
CALSCALE:GREGORIAN
BEGIN:VEVENT
DTSTART:20130131T233000Z
DTEND:20130131T233000Z
X-MICROSOFT-CDO-ALLDAYEVENT:FALSE
SUMMARY:Ribbon Cutting for Ederra Medspa & Wellness
DESCRIPTION:
X-ALT-DESC;FMTTYPE=text/html:
LOCATION:1204 S. White's Chapel Rd. Southlake\, TX 76092
UID:e.770.163186
SEQUENCE:3
DTSTAMP:20260421T210832Z
URL:https://business.grapevinechamber.org/events/details/ribbon-cutting-for-ederra-medspa-wellness-01-31-2013-163186
END:VEVENT

END:VCALENDAR
