BEGIN:VCALENDAR
VERSION:2.0
PRODID:-//ChamberMaster//Event Calendar 2.0//EN
METHOD:PUBLISH
X-PUBLISHED-TTL:P3D
REFRESH-INTERVAL:P3D
CALSCALE:GREGORIAN
BEGIN:VEVENT
DTSTART:20121108T233000Z
DTEND:20121108T233000Z
X-MICROSOFT-CDO-ALLDAYEVENT:FALSE
SUMMARY:Ribbon Cutting for Comfort Inn Grapevine
DESCRIPTION:
X-ALT-DESC;FMTTYPE=text/html:
LOCATION:301 Capitol St. Grapevine\, TX 76051
UID:e.770.163038
SEQUENCE:3
DTSTAMP:20260420T110026Z
URL:https://business.grapevinechamber.org/events/details/ribbon-cutting-for-comfort-inn-grapevine-11-08-2012-163038
END:VEVENT

END:VCALENDAR
