BEGIN:VCALENDAR
VERSION:2.0
PRODID:-//ChamberMaster//Event Calendar 2.0//EN
METHOD:PUBLISH
X-PUBLISHED-TTL:P3D
REFRESH-INTERVAL:P3D
CALSCALE:GREGORIAN
BEGIN:VEVENT
DTSTART:20160202T233000Z
DTEND:20160203T003000Z
X-MICROSOFT-CDO-ALLDAYEVENT:FALSE
SUMMARY:Ribbon Cutting for B&H Office Solutions
DESCRIPTION:Ribbon Cutting will be at Sendera Title for B&H Office Solutions
X-ALT-DESC;FMTTYPE=text/html:Ribbon Cutting will be at Sendera Title for B&amp\;H Office Solutions
LOCATION:@ Sendera Title 2535 E. Southlake Blvd.\, Ste. 140 Southlake\, TX 76092
UID:e.770.172437
SEQUENCE:3
DTSTAMP:20260422T055016Z
URL:https://business.grapevinechamber.org/events/details/ribbon-cutting-for-b-h-office-solutions-02-02-2016-172437
END:VEVENT

END:VCALENDAR
