BEGIN:VCALENDAR
VERSION:2.0
PRODID:-//ChamberMaster//Event Calendar 2.0//EN
METHOD:PUBLISH
X-PUBLISHED-TTL:P3D
REFRESH-INTERVAL:P3D
CALSCALE:GREGORIAN
BEGIN:VEVENT
DTSTART:20120802T223000Z
DTEND:20120802T223000Z
X-MICROSOFT-CDO-ALLDAYEVENT:FALSE
SUMMARY:Ribbon Cutting for AT&T Grapevine Store
DESCRIPTION:
X-ALT-DESC;FMTTYPE=text/html:
LOCATION:1401 Wm. D. Tate Ave. Suite 600 Grapevine\, TX 76051
UID:e.770.162934
SEQUENCE:3
DTSTAMP:20260422T080116Z
URL:https://business.grapevinechamber.org/events/details/ribbon-cutting-for-at-t-grapevine-store-08-02-2012-162934
END:VEVENT

END:VCALENDAR
