BEGIN:VCALENDAR
VERSION:2.0
PRODID:-//ChamberMaster//Event Calendar 2.0//EN
METHOD:PUBLISH
X-PUBLISHED-TTL:P3D
REFRESH-INTERVAL:P3D
CALSCALE:GREGORIAN
BEGIN:VEVENT
DTSTART:20121030T223000Z
DTEND:20121030T233000Z
X-MICROSOFT-CDO-ALLDAYEVENT:FALSE
SUMMARY:Ribbon Cutting for Alpha Wellness Center
DESCRIPTION:Halloween Costume Theme Mixer/Networking event and Ribbon Cutting\n\n\n\nThere will be food/drinks\, raffle prizes and a few special awards.
X-ALT-DESC;FMTTYPE=text/html:Halloween Costume Theme Mixer/Networking event and Ribbon Cutting<br />\n<br />\nThere will be food/drinks\, raffle prizes and a few special awards.&nbsp\;
LOCATION:1340 S Main Street Ste 305 Grapevine\, TX 7601
UID:e.770.162854
SEQUENCE:3
DTSTAMP:20260422T110731Z
URL:https://business.grapevinechamber.org/events/details/ribbon-cutting-for-alpha-wellness-center-10-30-2012-162854
END:VEVENT

END:VCALENDAR
