BEGIN:VCALENDAR
VERSION:2.0
PRODID:-//ChamberMaster//Event Calendar 2.0//EN
METHOD:PUBLISH
X-PUBLISHED-TTL:P3D
REFRESH-INTERVAL:P3D
CALSCALE:GREGORIAN
BEGIN:VEVENT
DTSTART:20130314T223000Z
DTEND:20130314T223000Z
X-MICROSOFT-CDO-ALLDAYEVENT:FALSE
SUMMARY:Ribbon Cutting for Allegiance Title of Grapevine
DESCRIPTION:
X-ALT-DESC;FMTTYPE=text/html:
LOCATION:206 E College Street\, Suite 200 Grapevine\, TX 76051
UID:e.770.163378
SEQUENCE:3
DTSTAMP:20260421T180221Z
URL:https://business.grapevinechamber.org/events/details/ribbon-cutting-for-allegiance-title-of-grapevine-03-14-2013-163378
END:VEVENT

END:VCALENDAR
