BEGIN:VCALENDAR
VERSION:2.0
PRODID:-//ChamberMaster//Event Calendar 2.0//EN
METHOD:PUBLISH
X-PUBLISHED-TTL:P3D
REFRESH-INTERVAL:P3D
CALSCALE:GREGORIAN
BEGIN:VEVENT
DTSTART:20230824T223000Z
DTEND:20230824T230000Z
X-MICROSOFT-CDO-ALLDAYEVENT:FALSE
SUMMARY:Ribbon Cutting- Branching Out Event Design & Hot Buns N Cakes
DESCRIPTION:All members are invited to attend the Ribbon Cutting to welcome Branching Out Event Design & Hot Buns'n'Cakes to your Five Star Accredited Grapevine Chamber of Commerce.
X-ALT-DESC;FMTTYPE=text/html:All members are invited to attend the Ribbon Cutting to welcome Branching Out Event Design &amp\; Hot Buns&#39\;n&#39\;Cakes to your Five Star Accredited Grapevine Chamber of Commerce.
LOCATION:Sloan & Williams Winery 401 S. Main St. Grapevine\, TX 76051
UID:e.770.197319
SEQUENCE:3
DTSTAMP:20260424T073212Z
URL:https://business.grapevinechamber.org/events/details/ribbon-cutting-branching-out-event-design-hot-buns-n-cakes-197319
END:VEVENT

END:VCALENDAR
