BEGIN:VCALENDAR
VERSION:2.0
PRODID:-//ChamberMaster//Event Calendar 2.0//EN
METHOD:PUBLISH
X-PUBLISHED-TTL:P3D
REFRESH-INTERVAL:P3D
CALSCALE:GREGORIAN
BEGIN:VEVENT
DTSTART:20230829T223000Z
DTEND:20230829T230000Z
X-MICROSOFT-CDO-ALLDAYEVENT:FALSE
SUMMARY:Ribbon Cutting- Alchemy Moon Esthetics
DESCRIPTION:All members are encouraged to attend the Ribbon Cutting for Alchemy Moon Esthetics to welcome them to your Five Star Accredited Grapevine Chamber of Commerce.
X-ALT-DESC;FMTTYPE=text/html:All members are encouraged to attend the Ribbon Cutting for Alchemy Moon Esthetics to welcome them to your Five Star Accredited Grapevine Chamber of Commerce.
LOCATION:621 N. Main St. Suite 420 Grapevine\, TX 76051
UID:e.770.197361
SEQUENCE:3
DTSTAMP:20260424T073058Z
URL:https://business.grapevinechamber.org/events/details/ribbon-cutting-alchemy-moon-esthetics-197361
END:VEVENT

END:VCALENDAR
