BEGIN:VCALENDAR
VERSION:2.0
PRODID:-//ChamberMaster//Event Calendar 2.0//EN
METHOD:PUBLISH
X-PUBLISHED-TTL:P3D
REFRESH-INTERVAL:P3D
CALSCALE:GREGORIAN
BEGIN:VEVENT
DTSTART;VALUE=DATE:20130323
DTEND;VALUE=DATE:20130324
TRANSP:TRANSPARENT
X-MICROSOFT-CDO-ALLDAYEVENT:TRUE
SUMMARY:Restyle Event at Zales Outlet The Diamond Store
DESCRIPTION:As part of the Zales Difference\, we conduct our own Restyle Events\, unlike other jewelers in the mall who bring in outside companies. This saves you at least 25%. On Saturday March 23\, we'll have hundreds of mountings in the store so you can actually see what your diamond would look like mounted differently\, and we'll have a large selection of loose diamonds if you decide to add more diamonds to your piece.\n\n	\n\n	Just so you know what to expect\, we'll have mountings priced from $500 to several thousand dollars\, but we have a nice selection in the $800 - $2\,000 range.  Come by or call ahead and set up an appointment for you so you won't have to wait to talk with the designer when you come in.
X-ALT-DESC;FMTTYPE=text/html:<p>\n	<font face="ArialMT" size="3"><font face="ArialMT" size="3">As part of the Zales Difference\, we conduct our own Restyle Events\, unlike other jewelers in the mall<font size="3"> </font>who bring in outside companies. This saves you at least 25%. On Saturday&nbsp\;March 23\, we&rsquo\;ll have hundreds of<font size="3"> </font>mountings in the store so you can actually see what your diamond would look like mounted differently\,<font size="3"> </font>and we&rsquo\;ll have a large selection of loose diamonds if you decide to add more diamonds to your piece.<br />\n	<br />\n	<font face="ArialMT" size="3"><font face="ArialMT" size="3">Just so you know what to expect\, we&rsquo\;ll have mountings priced from $500 to several thousand dollars\,<font size="3"> </font>but we have a nice selection in the $800 - $2\,000 range.&nbsp\; Come by or call ahead and set up an appointment<font size="3"> </font>for you so you won&rsquo\;t have to wait to talk with the designer when you come in.</font></font></font></font></p>\n
LOCATION:Zales Outlet at Grapevine Mill Mall 3000 Grapevine Mills Parkway Suite 227 Area 2 Grapevine\, TX 76051
UID:e.770.163432
SEQUENCE:3
DTSTAMP:20260421T180130Z
URL:https://business.grapevinechamber.org/events/details/restyle-event-at-zales-outlet-the-diamond-store-03-23-2013-163432
END:VEVENT

END:VCALENDAR
