BEGIN:VCALENDAR
VERSION:2.0
PRODID:-//ChamberMaster//Event Calendar 2.0//EN
METHOD:PUBLISH
X-PUBLISHED-TTL:P3D
REFRESH-INTERVAL:P3D
CALSCALE:GREGORIAN
BEGIN:VEVENT
DTSTART:20120930T230000Z
DTEND:20120930T230000Z
X-MICROSOFT-CDO-ALLDAYEVENT:FALSE
SUMMARY:Restoring LaPlace - Benefit Concert
DESCRIPTION:For many in LaPlace\, Louisiana\, the place they have called home has been devastated by Hurricane Isaac. Help us restore LaPlace by joining First Baptist Church Grapevine for a benefit concert to help raise funds and supplies for the people of LaPlace and First Baptist Church of LaPlace\, LA where Rev. Major Speights (FBC Grapevine's Senior Adult Pastor) served as Pastor for 28 years.\n\n\n\nThis benefit concert will include performances by:\n\n\n	\n		Rosewood   a fusion of folk\, country and bluegrass music (Rocky Gribble\, Curtis Jones\, Jeanice Massey)\n	\n		Cathy Lake   a Grapevine Opry Hall of Fame\, country gospel artist and song writer\n	\n		Charles H. Johnson   a soulful minster through song from Hallmark Baptist Church in Fort Worth\, TX.\n	\n		The Worship Choir & Orchestra of FBC Grapevine\, TX\n\nThe concert begins at 6:00pm in the Worship Center of First Baptist Church Grapevine at 301 East Texas Street in Grapevine\, Texas. Please bring a non-perishable food item for admission and a love offering will be taken to go to FBC LaPlace for disaster relief.\n\n\n\nFor more information\, please call Toni Alexander at FBC Grapevine\, 817.488.8573\, or email toni.alexander@fbcgrapevine.com.
X-ALT-DESC;FMTTYPE=text/html:For many in LaPlace\, Louisiana\, the place they have called home has been devastated by Hurricane Isaac. Help us restore LaPlace by joining First Baptist Church Grapevine for a benefit concert to help raise funds and supplies for the people of LaPlace and First Baptist Church of LaPlace\, LA where Rev. Major Speights (FBC Grapevine&rsquo\;s Senior Adult Pastor) served as Pastor for 28 years.<br />\n<br />\nThis benefit concert will include performances by:<br />\n<ul>\n	<li>\n		Rosewood &ndash\; a fusion of folk\, country and bluegrass music (Rocky Gribble\, Curtis Jones\, Jeanice Massey)</li>\n	<li>\n		Cathy Lake &ndash\; a Grapevine Opry Hall of Fame\, country gospel artist and song writer</li>\n	<li>\n		Charles H. Johnson &ndash\; a soulful minster through song from Hallmark Baptist Church in Fort Worth\, TX.</li>\n	<li>\n		The Worship Choir &amp\; Orchestra of FBC Grapevine\, TX</li>\n</ul>\nThe concert begins at 6:00pm in the Worship Center of First Baptist Church Grapevine at 301 East Texas Street in Grapevine\, Texas. Please bring a non-perishable food item for admission and a love offering will be taken to go to FBC LaPlace for disaster relief.<br />\n<br />\nFor more information\, please call Toni Alexander at FBC Grapevine\, 817.488.8573\, or email toni.alexander@fbcgrapevine.com.
LOCATION:301 East Texas Street Grapevine\, Texas 76051
UID:e.770.163033
SEQUENCE:3
DTSTAMP:20260422T094025Z
URL:https://business.grapevinechamber.org/events/details/restoring-laplace-benefit-concert-09-30-2012-163033
END:VEVENT

END:VCALENDAR
