BEGIN:VCALENDAR
VERSION:2.0
PRODID:-//ChamberMaster//Event Calendar 2.0//EN
METHOD:PUBLISH
X-PUBLISHED-TTL:P3D
REFRESH-INTERVAL:P3D
CALSCALE:GREGORIAN
BEGIN:VEVENT
DTSTART:20250425T180000Z
DTEND:20250426T010000Z
X-MICROSOFT-CDO-ALLDAYEVENT:FALSE
SUMMARY:RED DAWN - Shooter Social Series
DESCRIPTION:Just like the Wolverines\, you'll take up arms to defend America in an epic\, high-stakes\, run-and-gun showdown at the Texas Gun Experience in Grapevine\, Texas. Inspired by the film where America is invaded and it's up to you to rise up\, this event will have you shooting your way through a thrilling\, action-packed day. As *Jed Eckert* would say\, "We're gonna have to fight. This is our land\, and we're gonna take it back\n\nSummary of the Event:\n\nThe Shooter Social Series at Texas Gun Experience is a recurring event series designed for shooters of all levels\, from beginners to experienced pros. It focuses on fun\, competition-style shooting with unique themes for each event. Participants engage in dynamic courses involving movement and multiple targets\, similar to 3-Gun competitions but with added twists. The events aim to provide an exciting way to practice shooting skills\, learn about products from on-site vendors\, win prizes\, and socialize with fellow enthusiasts. Texas Gun Experience provides all necessary firearms and ammunition.\n\nWhat's Included:\n\n\n	Food and drink\n	One run of the unique\, themed shooting course\n	Ear and eye protection\n	Firearms and ammunition needed for the course
X-ALT-DESC;FMTTYPE=text/html:<p><span style="background-color:rgb(255\, 255\, 255)\; color:rgb(0\, 32\, 91)\; font-family:oswald\,sans-serif\; font-size:18px">Just like the Wolverines\, you&rsquo\;ll take up arms to defend America in an epic\, high-stakes\, run-and-gun showdown at the Texas Gun Experience in Grapevine\, Texas. Inspired by the film where America is invaded and it&rsquo\;s up to you to rise up\, this event will have you shooting your way through a thrilling\, action-packed day. As *Jed Eckert* would say\, &ldquo\;We&rsquo\;re gonna have to fight. This is our land\, and we&rsquo\;re gonna take it back</span></p>\n\n<p><strong>Summary of the Event:</strong></p>\n\n<p>The Shooter Social Series at Texas Gun Experience is a recurring event series designed for shooters of all levels\, from beginners to experienced pros. It focuses on fun\, competition-style shooting with unique themes for each event. Participants engage in dynamic courses involving movement and multiple targets\, similar to 3-Gun competitions but with added twists. The events aim to provide an exciting way to practice shooting skills\, learn about products from on-site vendors\, win prizes\, and socialize with fellow enthusiasts. Texas Gun Experience provides all necessary firearms and ammunition.</p>\n\n<p><strong>What&#39\;s Included:</strong></p>\n\n<ul>\n	<li><strong>Food and drink</strong></li>\n	<li><strong>One run</strong>&nbsp\;of the unique\, themed shooting course</li>\n	<li><strong>Ear and eye protection</strong></li>\n	<li><strong>Firearms and ammunition</strong>&nbsp\;needed for the course</li>\n</ul>\n
LOCATION:Texas Gun Experience 1901 South Main Street Grapevine 76051
UID:e.770.201196
SEQUENCE:3
DTSTAMP:20260426T000000Z
URL:https://business.grapevinechamber.org/events/details/red-dawn-shooter-social-series-201196
END:VEVENT

END:VCALENDAR
