BEGIN:VCALENDAR
VERSION:2.0
PRODID:-//ChamberMaster//Event Calendar 2.0//EN
METHOD:PUBLISH
X-PUBLISHED-TTL:P3D
REFRESH-INTERVAL:P3D
CALSCALE:GREGORIAN
BEGIN:VEVENT
DTSTART:20230811T140000Z
DTEND:20230811T200000Z
X-MICROSOFT-CDO-ALLDAYEVENT:FALSE
SUMMARY:Red Cross Blood Drive
DESCRIPTION:Hello Everyone\, Our next blood drive in Grapevine is Friday\, Aug 11th\, from 9-3 pm. Please sign up and/or share with family and friends. Blood is critically needed\, as in the summer\, donations tend to decrease. 1 pint can save up to 3 lives. The Red Cross has teamed up with MGM to celebrate 35 years of shark week. You could win a free trip for 2 to Long Island to scuba with the sharks in the aquarium for donating.
X-ALT-DESC;FMTTYPE=text/html:<span style="color:rgba(0\, 0\, 0\, 0.9)\; font-family:-apple-system\,system-ui\,blinkmacsystemfont\,segoe ui\,roboto\,helvetica neue\,fira sans\,ubuntu\,oxygen\,oxygen sans\,cantarell\,droid sans\,apple color emoji\,segoe ui emoji\,segoe ui emoji\,segoe ui symbol\,lucida grande\,helvetica\,arial\,sans-serif\; font-size:14px">Hello Everyone\, Our next blood drive in Grapevine is Friday\, Aug 11th\, from 9-3 pm. Please sign up and/or share with family and friends. Blood is critically needed\, as in the summer\, donations tend to decrease. 1 pint can save up to 3 lives. The Red Cross has teamed up with MGM to celebrate 35 years of shark week. You could win a free trip for 2 to Long Island to scuba with the sharks in the aquarium for donating.</span>
LOCATION:IB Roof Systems 506 E Dallas Rd.\, Suite 300 Grapevine\, TX 76051
UID:e.770.197301
SEQUENCE:3
DTSTAMP:20260424T221313Z
URL:https://business.grapevinechamber.org/events/details/red-cross-blood-drive-197301
END:VEVENT

END:VCALENDAR
