BEGIN:VCALENDAR
VERSION:2.0
PRODID:-//ChamberMaster//Event Calendar 2.0//EN
METHOD:PUBLISH
X-PUBLISHED-TTL:P3D
REFRESH-INTERVAL:P3D
CALSCALE:GREGORIAN
BEGIN:VEVENT
DTSTART:20230921T150000Z
DTEND:20230921T160000Z
X-MICROSOFT-CDO-ALLDAYEVENT:FALSE
SUMMARY:Realtor Safety Training Event
DESCRIPTION:DFW Realtors\, secure your success with our exclusive safety training event! Your safety is our #1 priority as we emphasize safety during client showings\, open houses\, and day-to-day activities. Expect an eye-opening presentation\, engaging Q&A\, and live demonstrations to debunk online safety myths! \n\n\n\nThis event is free!!
X-ALT-DESC;FMTTYPE=text/html:DFW Realtors\, secure your success with our exclusive safety training event! Your safety is our #1 priority as we emphasize safety during client showings\, open houses\, and day-to-day activities. Expect an eye-opening presentation\, engaging Q&amp\;A\, and live demonstrations to debunk online safety myths!&nbsp\;<br />\n<br />\nThis event is free!!&nbsp\;
LOCATION:Blankenship Center 200 Vine St. E Grapevine\, Texas 76051
UID:e.770.197549
SEQUENCE:3
DTSTAMP:20260424T202151Z
URL:https://business.grapevinechamber.org/events/details/realtor-safety-training-event-197549
END:VEVENT

END:VCALENDAR
