BEGIN:VCALENDAR
VERSION:2.0
PRODID:-//ChamberMaster//Event Calendar 2.0//EN
METHOD:PUBLISH
X-PUBLISHED-TTL:P3D
REFRESH-INTERVAL:P3D
CALSCALE:GREGORIAN
BEGIN:VEVENT
DTSTART:20130126T010000Z
DTEND:20130126T010000Z
X-MICROSOFT-CDO-ALLDAYEVENT:FALSE
SUMMARY:Re-Opening of Funscape at the Grapevine Activity Center
DESCRIPTION:Funscape of Grapevine has been providing kids in Grapevine with a fun safe environment since 1996. We provide a great place to go have fun with friends while also leaving parents at ease with leaving their kids. Teens are bombarded with excitement as soon as they arrive. Everyone has something fun to do\, whether they are dancing to the latest hits played by one of our live dj's\, playing in one of our 3 on 3 basketball tournaments\, dodgeball tournaments\, hula-hoop contests\, or just hanging out in the game room and playing pool or foosball. There is something for everyone.
X-ALT-DESC;FMTTYPE=text/html:Funscape of Grapevine has been providing kids in Grapevine with a fun safe environment since 1996. We provide a great place to go have fun with friends while also leaving parents at ease with leaving their kids. Teens are bombarded with excitement as soon as they arrive. Everyone has something fun to do\, whether they are dancing to the latest hits played by one of our live dj&rsquo\;s\, playing in one of our 3 on 3 basketball tournaments\, dodgeball tournaments\, hula-hoop contests\, or just hanging out in the game room and playing pool or foosball. There is something for everyone.
LOCATION:1175 Municipal Way Grapevine\, TX 76051
UID:e.770.163360
SEQUENCE:3
DTSTAMP:20260421T225514Z
URL:https://business.grapevinechamber.org/events/details/re-opening-of-funscape-at-the-grapevine-activity-center-01-25-2013-163360
END:VEVENT

END:VCALENDAR
