BEGIN:VCALENDAR
VERSION:2.0
PRODID:-//ChamberMaster//Event Calendar 2.0//EN
METHOD:PUBLISH
X-PUBLISHED-TTL:P3D
REFRESH-INTERVAL:P3D
CALSCALE:GREGORIAN
BEGIN:VEVENT
DTSTART:20230818T133000Z
DTEND:20230818T163000Z
X-MICROSOFT-CDO-ALLDAYEVENT:FALSE
SUMMARY:Ramp Up Your Revenue: Marketing & Sales Bootcamp
DESCRIPTION:Generating new leads and keeping steady revenue is tough for every business owner. Without a winning process\, closing more deals is a luck-of-the-draw game.\n\nAt this boot camp\, we will teach you marketing and sales secrets to create a process that will Ramp Up Your Revenue.\n\nLearn new tools to reach your big goals and network with other drive entrepreneurs from DFW.
X-ALT-DESC;FMTTYPE=text/html:<p><strong>Generating new leads and keeping steady revenue is tough for every business owner. Without a winning process\, closing more deals is a luck-of-the-draw game.</strong></p>\n\n<p><strong>At this boot camp\, we will teach you marketing and sales secrets to create a process that will Ramp Up Your Revenue.</strong></p>\n\n<p><strong>Learn new tools to reach your big goals and network with other drive entrepreneurs from DFW.&nbsp\;</strong></p>\n\n<p>&nbsp\;</p>\n
LOCATION:XM Performance 469 Cherry Ln\, Southlake\, TX 76092
UID:e.770.197226
SEQUENCE:3
DTSTAMP:20260424T221501Z
URL:https://business.grapevinechamber.org/events/details/ramp-up-your-revenue-marketing-sales-bootcamp-197226
END:VEVENT

END:VCALENDAR
