BEGIN:VCALENDAR
VERSION:2.0
PRODID:-//ChamberMaster//Event Calendar 2.0//EN
METHOD:PUBLISH
X-PUBLISHED-TTL:P3D
REFRESH-INTERVAL:P3D
CALSCALE:GREGORIAN
BEGIN:VEVENT
DTSTART:20130817T003000Z
DTEND:20130817T003000Z
X-MICROSOFT-CDO-ALLDAYEVENT:FALSE
SUMMARY:Quentin Moore with Vandell Andrew at the Palace Arts Center
DESCRIPTION:Quentin Moore is "The Last Mohican" of southern-style soul. In an era where Black music is dominated by electronic samples and rappers\, this avant-garde musician breaks the mold with live instruments\, particularly the vintage sound of the Fender Rhodes\, which conjures memories of Stevie Wonder and Donny Hathaway.\n\n	\n\n	For more information and tickets\, click here.
X-ALT-DESC;FMTTYPE=text/html:<p>\n	<span style="font-size:14px\;"><span style="font-family: arial\;">Quentin Moore is &ldquo\;The Last Mohican&rdquo\; of southern-style soul. In an era where Black music is dominated by electronic samples and rappers\, this avant-garde musician breaks the mold with live instruments\, particularly the vintage sound of the Fender Rhodes\, which conjures memories of Stevie Wonder and Donny Hathaway.<br />\n	<br />\n	For more information and tickets\, <strong><a href="https://www.grapevinetexasusa.com/Heritage/PalaceArtsCenter/LivePerformances/QuentinMoorewithVandellAndrew/tabid/1235/Default.aspx" target="_blank">click here</a></strong>.</span></span></p>\n
LOCATION:Palace Arts Center 300 S. Main St. Grapevine\, TX 76051
UID:e.770.164054
SEQUENCE:3
DTSTAMP:20260421T081312Z
URL:https://business.grapevinechamber.org/events/details/quentin-moore-with-vandell-andrew-at-the-palace-arts-center-08-16-2013-164054
END:VEVENT

END:VCALENDAR
