BEGIN:VCALENDAR
VERSION:2.0
PRODID:-//ChamberMaster//Event Calendar 2.0//EN
METHOD:PUBLISH
X-PUBLISHED-TTL:P3D
REFRESH-INTERVAL:P3D
CALSCALE:GREGORIAN
BEGIN:VEVENT
DTSTART:20240211T180000Z
DTEND:20240211T220000Z
X-MICROSOFT-CDO-ALLDAYEVENT:FALSE
SUMMARY:Puppy Bowl Watch Party at Hop & Sting Brewing Co.
DESCRIPTION:Join us for a tail-wagging good time at our Puppy Bowl Watch Party in the lively atmosphere of Hop & Sting Brewing Company! Enjoy watching the game with your furry friends while treating them to a free teeth-brushing\, mani-pedis\, or wash 'n gos - because every pup deserves a spa day. Cheers to a pawsitively delightful experience! ????
X-ALT-DESC;FMTTYPE=text/html:Join us for a tail-wagging good time at our Puppy Bowl Watch Party in the lively atmosphere of Hop &amp\; Sting Brewing Company! Enjoy watching the game with your furry friends while treating them to a free teeth-brushing\, mani-pedis\, or wash &#39\;n gos - because every pup deserves a spa day. Cheers to a pawsitively delightful experience!&nbsp\;<span style="font-family:segoe ui emoji\,sans-serif">????</span>
LOCATION:Hop & Sting Brewing Co. in Grapevine
UID:e.770.198280
SEQUENCE:3
DTSTAMP:20260424T130445Z
URL:https://business.grapevinechamber.org/events/details/puppy-bowl-watch-party-at-hop-sting-brewing-co-198280
END:VEVENT

END:VCALENDAR
