BEGIN:VCALENDAR
VERSION:2.0
PRODID:-//ChamberMaster//Event Calendar 2.0//EN
METHOD:PUBLISH
X-PUBLISHED-TTL:P3D
REFRESH-INTERVAL:P3D
CALSCALE:GREGORIAN
BEGIN:VEVENT
DTSTART:20121020T153000Z
DTEND:20121020T170000Z
X-MICROSOFT-CDO-ALLDAYEVENT:FALSE
SUMMARY:Prayer Art Flags\, Peace and Tea
DESCRIPTION:Prayer Art Flags\, Peace and Tea\n\n\n10:30am until 12:00pm\n\nWe will be creating our own individual prayer art flags for yourself or someone special.\n\n\n\nClass fee $25.00\, a cup of tea and all supplies included.
X-ALT-DESC;FMTTYPE=text/html:<h2>\n	<u><strong>Prayer Art Flags\, Peace and Tea</strong></u></h2>\n<br />\n10:30am until 12:00pm<br />\nWe will be creating our own individual prayer art flags for yourself or someone special.<br />\n<br />\nClass fee $25.00\, a cup of tea and all supplies included.
LOCATION:106 East Texas St. Grapevine\, TX 76051
UID:e.770.163061
SEQUENCE:3
DTSTAMP:20260422T110347Z
URL:https://business.grapevinechamber.org/events/details/prayer-art-flags-peace-and-tea-10-20-2012-163061
END:VEVENT

END:VCALENDAR
