BEGIN:VCALENDAR
VERSION:2.0
PRODID:-//ChamberMaster//Event Calendar 2.0//EN
METHOD:PUBLISH
X-PUBLISHED-TTL:P3D
REFRESH-INTERVAL:P3D
CALSCALE:GREGORIAN
BEGIN:VEVENT
DTSTART:20121014T180000Z
DTEND:20121014T193000Z
X-MICROSOFT-CDO-ALLDAYEVENT:FALSE
SUMMARY:Prayer Art Flags\, Peace and Tea
DESCRIPTION:Sunday Oct. 14th: Prayer Art Flags\, Peace and Tea\, 1:00pm until 2:30pm- we will be creating our own individual prayer art flags for yourself or someone special. Class fee $25.00\, a cup of tea and all supplies included.
X-ALT-DESC;FMTTYPE=text/html:Sunday Oct. 14th: Prayer Art Flags\, Peace and Tea\, 1:00pm until 2:30pm- we will be creating our own individual prayer art flags for yourself or someone special. Class fee $25.00\, a cup of tea and all supplies included.
LOCATION:106 East Texas St. Grapevine\, TX 76051
UID:e.770.163058
SEQUENCE:3
DTSTAMP:20260422T110432Z
URL:https://business.grapevinechamber.org/events/details/prayer-art-flags-peace-and-tea-10-14-2012-163058
END:VEVENT

END:VCALENDAR
