BEGIN:VCALENDAR
VERSION:2.0
PRODID:-//ChamberMaster//Event Calendar 2.0//EN
METHOD:PUBLISH
X-PUBLISHED-TTL:P3D
REFRESH-INTERVAL:P3D
CALSCALE:GREGORIAN
BEGIN:VEVENT
DTSTART:20140313T233000Z
DTEND:20140314T003000Z
X-MICROSOFT-CDO-ALLDAYEVENT:FALSE
SUMMARY:POWERFUL RETIREMENT STRATEGIES FOR WOMEN - Financial & Estate Planning Services
DESCRIPTION:POWERFUL RETIREMENT\n\n	STRATEGIES FOR WOMEN!\n\n	This workshop will help you to protect\n\n	your financial assets and your standard\n\n	of living. You will gain knowledge on\n\n	how to stretch your money to last your lifetime.
X-ALT-DESC;FMTTYPE=text/html:<h1 style="text-align: center\;">\n	<span style="font-family: arial\,helvetica\,sans-serif\;"><span style="font-size: 28px\;"><strong><u>POWERFUL RETIREMENT<br />\n	STRATEGIES FOR WOMEN!</u></strong></span></span></h1>\n<h1 style="text-align: center\;">\n	<span style="font-family: arial\,helvetica\,sans-serif\;"><span style="font-size: 26px\;"><strong>This workshop will help you to protect<br />\n	your financial assets and your standard<br />\n	of living. You will gain knowledge on<br />\n	how to stretch your money to last your lifetime.</strong></span></span></h1>\n
LOCATION:Westwood Business Center Texas Room 611 S. Main St.\, Suite 400 Grapevine\, TX. 76051
UID:e.770.166717
SEQUENCE:3
DTSTAMP:20260420T182533Z
URL:https://business.grapevinechamber.org/events/details/powerful-retirement-strategies-for-women-financial-estate-planning-services-03-13-2014-166717
END:VEVENT

END:VCALENDAR
