BEGIN:VCALENDAR
VERSION:2.0
PRODID:-//ChamberMaster//Event Calendar 2.0//EN
METHOD:PUBLISH
X-PUBLISHED-TTL:P3D
REFRESH-INTERVAL:P3D
CALSCALE:GREGORIAN
BEGIN:VEVENT
DTSTART:20240218T200000Z
DTEND:20240218T220000Z
X-MICROSOFT-CDO-ALLDAYEVENT:FALSE
SUMMARY:Pottery Workshop Series
DESCRIPTION:Enjoy a fun and relaxing atmosphere while creating your own pottery masterpiece! instructor Aaron will guide you to create anything you want to bring to life - mug\, vase\, bowl\, you name it! Glaze is dishwasher & food safe.\n\n\n\nThis is a TWO part workshop: \n\n2/18 - Session 1: Form your pottery\n\n2/25 - Session 2: Glaze your pottery
X-ALT-DESC;FMTTYPE=text/html:<font color="#000000">Enjoy a fun and relaxing atmosphere while creating your own pottery masterpiece! instructor Aaron will guide you to create anything you want to bring to life - mug\, vase\, bowl\, you name it! Glaze is dishwasher &amp\; food safe.</font><br />\n<br />\n<font color="#000000">This is a TWO part&nbsp\;workshop:&nbsp\;<br />\n2/18 - </font><span style="color:rgb(0\, 0\, 0)">Session 1:&nbsp\;</span><font color="#000000">Form your pottery<br />\n2/25 - </font><span style="color:rgb(0\, 0\, 0)">Session 2:&nbsp\;</span><font color="#000000">Glaze your pottery</font><br />\n<br />\n&nbsp\;
LOCATION:Your CBD Store Southlake 2354 E State Hwy 114 Southlake\, TX 76092
UID:e.770.198318
SEQUENCE:3
DTSTAMP:20260424T125940Z
URL:https://business.grapevinechamber.org/events/details/pottery-workshop-series-198318
END:VEVENT

END:VCALENDAR
