BEGIN:VCALENDAR
VERSION:2.0
PRODID:-//ChamberMaster//Event Calendar 2.0//EN
METHOD:PUBLISH
X-PUBLISHED-TTL:P3D
REFRESH-INTERVAL:P3D
CALSCALE:GREGORIAN
BEGIN:VEVENT
DTSTART:20230924T180000Z
DTEND:20230924T210000Z
X-MICROSOFT-CDO-ALLDAYEVENT:FALSE
SUMMARY:Pickleball Tournament supporting PH4U
DESCRIPTION:Join us for a family friendly and fun fundraising tournament benefiting Pregnancy Help 4 U. This organization provides free resources for growing families in our community. The tournament will be at Chicken N Pickle in Grapevine on Sunday\, Sept 24th. Register now! (Registration closes on Sept 8th.) \n\n\n\nCost per team is $125 which includes atleast 3 games in the tournament\, goodie bag\, snacks and a T-shirt! We also have sponsorship opportunities available starting at $250. You can see all the details online at: https://events.ph4ugala.org/pickleball-tournamententry \n\n \nLocation: \n\n\n\nChicken N Pickle (CNP)\n\n4600 Merlot Ave\n\nGrapevine TX 76051\n\nTournament Schedule:\n\n\n	Tournament check in begins at 12:15\n	Safety/tournament briefing and welcome at 12:45\n	Tournament play to begin at 1:00\n	Sponsor recognition and awards at 3:45
X-ALT-DESC;FMTTYPE=text/html:Join us for a family friendly and fun fundraising tournament benefiting Pregnancy Help 4 U. This organization provides free resources for growing families in our community. The tournament will be at Chicken N Pickle in Grapevine on Sunday\, Sept 24th. Register now! (Registration closes on Sept 8th.)&nbsp\;<br />\n<br />\nCost per team is $125 which includes atleast 3 games in the tournament\, goodie bag\, snacks and a T-shirt! We also have sponsorship opportunities available starting at $250. You can see all the details online at:&nbsp\;<a href="https://events.ph4ugala.org/pickleball-tournamententry">https://events.ph4ugala.org/pickleball-tournamententry&nbsp\;</a><br />\n&nbsp\;\n<div>Location:&nbsp\;<br />\n<br />\nChicken N Pickle (CNP)<br />\n4600 Merlot Ave<br />\nGrapevine TX 76051</div>\n\n<p>Tournament Schedule:</p>\n\n<ul>\n	<li>Tournament check in begins at 12:15</li>\n	<li>Safety/tournament briefing and welcome at 12:45</li>\n	<li>Tournament play to begin at 1:00</li>\n	<li>Sponsor recognition and awards at 3:45</li>\n</ul>\n
LOCATION:Chicken N Pickle (CNP) 4600 Merlot Ave Grapevine TX 76051
UID:e.770.197244
SEQUENCE:3
DTSTAMP:20260424T202151Z
URL:https://business.grapevinechamber.org/events/details/pickleball-tournament-supporting-ph4u-197244
END:VEVENT

END:VCALENDAR
