BEGIN:VCALENDAR
VERSION:2.0
PRODID:-//ChamberMaster//Event Calendar 2.0//EN
METHOD:PUBLISH
X-PUBLISHED-TTL:P3D
REFRESH-INTERVAL:P3D
CALSCALE:GREGORIAN
BEGIN:VEVENT
DTSTART:20160617T170000Z
DTEND:20160617T180000Z
X-MICROSOFT-CDO-ALLDAYEVENT:FALSE
SUMMARY:Past Chairman's Advisory Council Meeting
DESCRIPTION:Meeting of Past Chairman's Advisory Council
X-ALT-DESC;FMTTYPE=text/html:Meeting of Past Chairman&#39\;s Advisory Council<br />\n&nbsp\;
LOCATION:Grapevine Chamber 200 Vine St.
UID:e.770.174651
SEQUENCE:3
DTSTAMP:20260420T114750Z
URL:https://business.grapevinechamber.org/events/details/past-chairman-s-advisory-council-meeting-06-17-2016-174651
END:VEVENT

END:VCALENDAR
