BEGIN:VCALENDAR
VERSION:2.0
PRODID:-//ChamberMaster//Event Calendar 2.0//EN
METHOD:PUBLISH
X-PUBLISHED-TTL:P3D
REFRESH-INTERVAL:P3D
CALSCALE:GREGORIAN
BEGIN:VEVENT
DTSTART:20230615T230000Z
DTEND:20230616T010000Z
X-MICROSOFT-CDO-ALLDAYEVENT:FALSE
SUMMARY:Paint & Sip Night!
DESCRIPTION:Every month\, Your CBD Store Southlake hosts paint night! Join us\, bring a friend and enjoy a night of sipping\, painting and laughing!\n\nIncludes: \n\n  Paint Supplies\n\n  Guided Instruction\n\n  Take-Home Completed Canvas\n\n  Light Bites\n\n  Drinks\, CBD Samples & More!\n\n\n\nAges 18+ please!
X-ALT-DESC;FMTTYPE=text/html:<p>Every month\, Your CBD Store Southlake hosts paint night! Join us\, bring a friend and enjoy a night of sipping\, painting and laughing!</p>\n\n<p>Includes:&nbsp\;</p>\n\n<p>&bull\; Paint Supplies</p>\n\n<p>&bull\; Guided Instruction</p>\n\n<p>&bull\; Take-Home Completed Canvas</p>\n\n<p>&bull\; Light Bites</p>\n\n<p>&bull\; Drinks\, CBD Samples &amp\; More!<br />\n<br />\n<em>Ages 18+ please!&nbsp\;</em></p>\n
LOCATION:Your CBD Store Southlake 2354 E State Hwy 114 Southlake\, TX 76092
UID:e.770.197212
SEQUENCE:3
DTSTAMP:20260425T033917Z
URL:https://business.grapevinechamber.org/events/details/paint-sip-night-197212
END:VEVENT

END:VCALENDAR
